BEGIN:VCALENDAR
VERSION:2.0
CALSCALE:GREGORIAN
BEGIN:VEVENT
URL:https://www.learndesk.us/class/4796584787181568/lesson/bd3e59b9620faac21785189d217a4a66?ref=outlook-calendar
SUMMARY:Working with Web Forms and Flask-Security
DTSTART;TZID=America/Los_Angeles:20260422T190000
DTEND;TZID=America/Los_Angeles:20260422T200000
LOCATION:https://www.learndesk.us/class/4796584787181568/lesson/bd3e59b9620faac21785189d217a4a66?ref=outlook-calendar
DESCRIPTION: 
In this section, we will create web forms using the Flask-WTF extension. We will learn to create a login form and a registration form for the application using the Flask-Login extension. We’ll also explore sessions and authentication

Installing and Configuring Flask-WTF and Flask-Security Extensions
Creating the Login and Registration Pages
Processing Form Data and Updating the Database
Creating the Courses Page
Creating the Enrollment Page
Creating Sessions and Authentication



https://www.learndesk.us/class/4796584787181568/lesson/bd3e59b9620faac21785189d217a4a66?ref=outlook-calendar
STATUS:CONFIRMED
SEQUENCE:3
BEGIN:VALARM
TRIGGER:-PT10M
DESCRIPTION:Class Reminder
ACTION:DISPLAY
END:VALARM
END:VEVENT
END:VCALENDAR