BEGIN:VCALENDAR
VERSION:2.0
CALSCALE:GREGORIAN
BEGIN:VEVENT
URL:https://www.learndesk.us/class/4796584787181568/lesson/aaf54771d6f7dbb7d01c00412fddc8d6?ref=outlook-calendar
SUMMARY:Creating the Data Models
DTSTART;TZID=America/Los_Angeles:20260422T190000
DTEND;TZID=America/Los_Angeles:20260422T200000
LOCATION:https://www.learndesk.us/class/4796584787181568/lesson/aaf54771d6f7dbb7d01c00412fddc8d6?ref=outlook-calendar
DESCRIPTION: Creating the User, Course, and Enrollment model classes to hold documents from MongoDB.

Create all model classes in a module called models.py



https://www.learndesk.us/class/4796584787181568/lesson/aaf54771d6f7dbb7d01c00412fddc8d6?ref=outlook-calendar
STATUS:CONFIRMED
SEQUENCE:3
BEGIN:VALARM
TRIGGER:-PT10M
DESCRIPTION:Class Reminder
ACTION:DISPLAY
END:VALARM
END:VEVENT
END:VCALENDAR