BEGIN:VCALENDAR
VERSION:2.0
CALSCALE:GREGORIAN
BEGIN:VEVENT
URL:https://www.learndesk.us/class/4796584787181568/lesson/a3788a56962113e6a7b6fdb8a9bfb7cf?ref=outlook-calendar
SUMMARY:Setting Up the Database
DTSTART;TZID=America/Los_Angeles:20260422T190000
DTEND;TZID=America/Los_Angeles:20260422T200000
LOCATION:https://www.learndesk.us/class/4796584787181568/lesson/a3788a56962113e6a7b6fdb8a9bfb7cf?ref=outlook-calendar
DESCRIPTION: Preparing the configuration environment variables and importing the flask- Mongo Engine extension.

Setup MONGODB_SETTINGS in config.py to database name
Initialize a MongoEngine database object



https://www.learndesk.us/class/4796584787181568/lesson/a3788a56962113e6a7b6fdb8a9bfb7cf?ref=outlook-calendar
STATUS:CONFIRMED
SEQUENCE:3
BEGIN:VALARM
TRIGGER:-PT10M
DESCRIPTION:Class Reminder
ACTION:DISPLAY
END:VALARM
END:VEVENT
END:VCALENDAR