BEGIN:VCALENDAR
VERSION:2.0
CALSCALE:GREGORIAN
BEGIN:VEVENT
URL:https://www.learndesk.us/class/4796584787181568/lesson/993d63ed3e11319a78712dd4853c194f?ref=outlook-calendar
SUMMARY:Creating the Home Page
DTSTART;TZID=America/Los_Angeles:20260424T190000
DTEND;TZID=America/Los_Angeles:20260424T200000
LOCATION:https://www.learndesk.us/class/4796584787181568/lesson/993d63ed3e11319a78712dd4853c194f?ref=outlook-calendar
DESCRIPTION: Creating a template for the home page and rendering the template to the view.

Render the template using the render template() function
Use Jinja template expression
Use include directive to include external files



https://www.learndesk.us/class/4796584787181568/lesson/993d63ed3e11319a78712dd4853c194f?ref=outlook-calendar
STATUS:CONFIRMED
SEQUENCE:3
BEGIN:VALARM
TRIGGER:-PT10M
DESCRIPTION:Class Reminder
ACTION:DISPLAY
END:VALARM
END:VEVENT
END:VCALENDAR