BEGIN:VCALENDAR
VERSION:2.0
CALSCALE:GREGORIAN
BEGIN:VEVENT
URL:https://www.learndesk.us/class/4796584787181568/lesson/762b56463af15facdafcea6a857eb467?ref=outlook-calendar
SUMMARY:Updating Data Using PUT
DTSTART;TZID=America/Los_Angeles:20260422T190000
DTEND;TZID=America/Los_Angeles:20260422T200000
LOCATION:https://www.learndesk.us/class/4796584787181568/lesson/762b56463af15facdafcea6a857eb467?ref=outlook-calendar
DESCRIPTION: Learning how to create a REST API to update existing data in a collection using HTTP PUT request method.

Create a class and the put method using Flask-RESTPlus extension
Decorate the class with a resource URL to /api/
Understand HTTP PUT request method with practical demo



https://www.learndesk.us/class/4796584787181568/lesson/762b56463af15facdafcea6a857eb467?ref=outlook-calendar
STATUS:CONFIRMED
SEQUENCE:3
BEGIN:VALARM
TRIGGER:-PT10M
DESCRIPTION:Class Reminder
ACTION:DISPLAY
END:VALARM
END:VEVENT
END:VCALENDAR