BEGIN:VCALENDAR
VERSION:2.0
CALSCALE:GREGORIAN
BEGIN:VEVENT
URL:https://www.learndesk.us/class/4796584787181568/lesson/6d68fbf7a9ed3e912cbd9e728246776f?ref=outlook-calendar
SUMMARY:Accessing Data Via Request and Response Objects
DTSTART;TZID=America/Los_Angeles:20260422T190000
DTEND;TZID=America/Los_Angeles:20260422T200000
LOCATION:https://www.learndesk.us/class/4796584787181568/lesson/6d68fbf7a9ed3e912cbd9e728246776f?ref=outlook-calendar
DESCRIPTION: How to access data via query string and form data using request and response objects?

Decorate the function with the GET and POST directives



https://www.learndesk.us/class/4796584787181568/lesson/6d68fbf7a9ed3e912cbd9e728246776f?ref=outlook-calendar
STATUS:CONFIRMED
SEQUENCE:3
BEGIN:VALARM
TRIGGER:-PT10M
DESCRIPTION:Class Reminder
ACTION:DISPLAY
END:VALARM
END:VEVENT
END:VCALENDAR