BEGIN:VCALENDAR
VERSION:2.0
CALSCALE:GREGORIAN
BEGIN:VEVENT
URL:https://www.learndesk.us/class/4796584787181568/lesson/6b81426a50c5ab8f40cee085392f988f?ref=outlook-calendar
SUMMARY:Creating the Enrollment Application
DTSTART;TZID=America/Los_Angeles:20260422T190000
DTEND;TZID=America/Los_Angeles:20260422T200000
LOCATION:https://www.learndesk.us/class/4796584787181568/lesson/6b81426a50c5ab8f40cee085392f988f?ref=outlook-calendar
DESCRIPTION: Creating the enrollment application structure to separate models, views, and controllers.

Create a template folder to store views and static folder for static data



https://www.learndesk.us/class/4796584787181568/lesson/6b81426a50c5ab8f40cee085392f988f?ref=outlook-calendar
STATUS:CONFIRMED
SEQUENCE:3
BEGIN:VALARM
TRIGGER:-PT10M
DESCRIPTION:Class Reminder
ACTION:DISPLAY
END:VALARM
END:VEVENT
END:VCALENDAR