BEGIN:VCALENDAR
VERSION:2.0
CALSCALE:GREGORIAN
BEGIN:VEVENT
URL:https://www.learndesk.us/class/4796584787181568/lesson/6812117cce8141baab0d2ff11145411b?ref=outlook-calendar
SUMMARY:Creating the Login and Registration Pages
DTSTART;TZID=America/Los_Angeles:20260422T190000
DTEND;TZID=America/Los_Angeles:20260422T200000
LOCATION:https://www.learndesk.us/class/4796584787181568/lesson/6812117cce8141baab0d2ff11145411b?ref=outlook-calendar
DESCRIPTION: Creating the web forms for the login and registration pages using the WTForms library.

Create the LoginForm and RegisterForm classes using Flask-WTF syntax
Use Jinja expressions to create form fields in template



https://www.learndesk.us/class/4796584787181568/lesson/6812117cce8141baab0d2ff11145411b?ref=outlook-calendar
STATUS:CONFIRMED
SEQUENCE:3
BEGIN:VALARM
TRIGGER:-PT10M
DESCRIPTION:Class Reminder
ACTION:DISPLAY
END:VALARM
END:VEVENT
END:VCALENDAR