BEGIN:VCALENDAR
VERSION:2.0
CALSCALE:GREGORIAN
BEGIN:VEVENT
URL:https://www.learndesk.us/class/4796584787181568/lesson/6726ba86f7fce8bf653d187643ca170b?ref=outlook-calendar
SUMMARY:Creating Documents and Data
DTSTART;TZID=America/Los_Angeles:20260426T190000
DTEND;TZID=America/Los_Angeles:20260426T200000
LOCATION:https://www.learndesk.us/class/4796584787181568/lesson/6726ba86f7fce8bf653d187643ca170b?ref=outlook-calendar
DESCRIPTION: Creating collections in MongoDB using the MongoDB Compass Community GUI interface and inserting documents into the collections.

Create collections via GUI interface
Insert JSON data using mongoexport command via command line



https://www.learndesk.us/class/4796584787181568/lesson/6726ba86f7fce8bf653d187643ca170b?ref=outlook-calendar
STATUS:CONFIRMED
SEQUENCE:3
BEGIN:VALARM
TRIGGER:-PT10M
DESCRIPTION:Class Reminder
ACTION:DISPLAY
END:VALARM
END:VEVENT
END:VCALENDAR