BEGIN:VCALENDAR
VERSION:2.0
CALSCALE:GREGORIAN
BEGIN:VEVENT
URL:https://www.learndesk.us/class/4796584787181568/lesson/64185096491a7a61b6996fa998663081?ref=outlook-calendar
SUMMARY:Connecting to The Database
DTSTART;TZID=America/Los_Angeles:20260422T190000
DTEND;TZID=America/Los_Angeles:20260422T200000
LOCATION:https://www.learndesk.us/class/4796584787181568/lesson/64185096491a7a61b6996fa998663081?ref=outlook-calendar
DESCRIPTION: Connecting to the MongoDB via Flask MongoEngine object and hooking up a user collection to a user model class.

Create user model class to map to user collection in MongoDB



https://www.learndesk.us/class/4796584787181568/lesson/64185096491a7a61b6996fa998663081?ref=outlook-calendar
STATUS:CONFIRMED
SEQUENCE:3
BEGIN:VALARM
TRIGGER:-PT10M
DESCRIPTION:Class Reminder
ACTION:DISPLAY
END:VALARM
END:VEVENT
END:VCALENDAR