BEGIN:VCALENDAR
VERSION:2.0
CALSCALE:GREGORIAN
BEGIN:VEVENT
URL:https://www.learndesk.us/class/4796584787181568/lesson/5eeae8fd42cbbeb7dc7ca28af1edb4bc?ref=outlook-calendar
SUMMARY:Passing Data to the View
DTSTART;TZID=America/Los_Angeles:20260422T190000
DTEND;TZID=America/Los_Angeles:20260422T200000
LOCATION:https://www.learndesk.us/class/4796584787181568/lesson/5eeae8fd42cbbeb7dc7ca28af1edb4bc?ref=outlook-calendar
DESCRIPTION: How to pass properties from the source to the template.

Pass the property key-value pairs as parameters into the render template function
Use the Jinja’s double curly braces (expression) to display property data to the view



https://www.learndesk.us/class/4796584787181568/lesson/5eeae8fd42cbbeb7dc7ca28af1edb4bc?ref=outlook-calendar
STATUS:CONFIRMED
SEQUENCE:3
BEGIN:VALARM
TRIGGER:-PT10M
DESCRIPTION:Class Reminder
ACTION:DISPLAY
END:VALARM
END:VEVENT
END:VCALENDAR