BEGIN:VCALENDAR
VERSION:2.0
CALSCALE:GREGORIAN
BEGIN:VEVENT
URL:https://www.learndesk.us/class/4796584787181568/lesson/56b892943d4702e31a760b89b4e0d98c?ref=outlook-calendar
SUMMARY:Creating the Enrollment Page
DTSTART;TZID=America/Los_Angeles:20260422T190000
DTEND;TZID=America/Los_Angeles:20260422T200000
LOCATION:https://www.learndesk.us/class/4796584787181568/lesson/56b892943d4702e31a760b89b4e0d98c?ref=outlook-calendar
DESCRIPTION: Creating the Enrollment page by querying data from a many-to-many relationship between the User, Enrollment, and Course collections.

Use MongoDB Compass studio to create lookups to query data from multiple collections
Export the query string from MongoDB Compass studio into Flask



https://www.learndesk.us/class/4796584787181568/lesson/56b892943d4702e31a760b89b4e0d98c?ref=outlook-calendar
STATUS:CONFIRMED
SEQUENCE:3
BEGIN:VALARM
TRIGGER:-PT10M
DESCRIPTION:Class Reminder
ACTION:DISPLAY
END:VALARM
END:VEVENT
END:VCALENDAR