BEGIN:VCALENDAR
VERSION:2.0
CALSCALE:GREGORIAN
BEGIN:VEVENT
URL:https://www.learndesk.us/class/4796584787181568/lesson/41a98716b83ca65eecffb9ace33afe44?ref=outlook-calendar
SUMMARY:Setting Up the Virtual Environment and Framework
DTSTART;TZID=America/Los_Angeles:20260422T190000
DTEND;TZID=America/Los_Angeles:20260422T200000
LOCATION:https://www.learndesk.us/class/4796584787181568/lesson/41a98716b83ca65eecffb9ace33afe44?ref=outlook-calendar
DESCRIPTION: 
In this section, you will start by setting up Python’s virtual environment and Flask framework for development. We’ll also update to the latest stable versions of Python, Flask, and other important Flask extensions.

The Course Overview
Installing Python and Flask
Configuring Flask
Creating and Running a Simple Flask Application



https://www.learndesk.us/class/4796584787181568/lesson/41a98716b83ca65eecffb9ace33afe44?ref=outlook-calendar
STATUS:CONFIRMED
SEQUENCE:3
BEGIN:VALARM
TRIGGER:-PT10M
DESCRIPTION:Class Reminder
ACTION:DISPLAY
END:VALARM
END:VEVENT
END:VCALENDAR