BEGIN:VCALENDAR
VERSION:2.0
CALSCALE:GREGORIAN
BEGIN:VEVENT
URL:https://www.learndesk.us/class/4796584787181568/lesson/3fcb1defe063d21ad7315729f4ba213a?ref=outlook-calendar
SUMMARY:Creating and Testing REST APIs Using Postman
DTSTART;TZID=America/Los_Angeles:20260422T190000
DTEND;TZID=America/Los_Angeles:20260422T200000
LOCATION:https://www.learndesk.us/class/4796584787181568/lesson/3fcb1defe063d21ad7315729f4ba213a?ref=outlook-calendar
DESCRIPTION: 
In this section, we will take a look at REST APIs and learn how to develop Restful APIS using the Flask-RESTPlus API. We’ll also learn to perform integration testing with our REST APIs using Google Chrome’s HTTP client called Postman tool.

Installing Postman and Flask-RESTPlus Extension
Fetching Data Using GET
Inserting Data Using POST
Updating Data Using PUT
Deleting Data Using DELETE



https://www.learndesk.us/class/4796584787181568/lesson/3fcb1defe063d21ad7315729f4ba213a?ref=outlook-calendar
STATUS:CONFIRMED
SEQUENCE:3
BEGIN:VALARM
TRIGGER:-PT10M
DESCRIPTION:Class Reminder
ACTION:DISPLAY
END:VALARM
END:VEVENT
END:VCALENDAR