BEGIN:VCALENDAR
VERSION:2.0
CALSCALE:GREGORIAN
BEGIN:VEVENT
URL:https://www.learndesk.us/class/4796584787181568/lesson/354233a805a58cf9541647df7b27a61e?ref=outlook-calendar
SUMMARY:Installing and Configuring Flask-WTF and Flask-Security Extensions
DTSTART;TZID=America/Los_Angeles:20260422T190000
DTEND;TZID=America/Los_Angeles:20260422T200000
LOCATION:https://www.learndesk.us/class/4796584787181568/lesson/354233a805a58cf9541647df7b27a61e?ref=outlook-calendar
DESCRIPTION: Installing, configuring, and setting up the Flask-WTF and Flask-Security extensions for creating web forms and securing form data and user authentication.

Download and install Flask-WTF and Flask-Security using the pip command



https://www.learndesk.us/class/4796584787181568/lesson/354233a805a58cf9541647df7b27a61e?ref=outlook-calendar
STATUS:CONFIRMED
SEQUENCE:3
BEGIN:VALARM
TRIGGER:-PT10M
DESCRIPTION:Class Reminder
ACTION:DISPLAY
END:VALARM
END:VEVENT
END:VCALENDAR