BEGIN:VCALENDAR
VERSION:2.0
CALSCALE:GREGORIAN
BEGIN:VEVENT
URL:https://www.learndesk.us/class/4796584787181568/lesson/248b2b5a071e20b1a1fba2b5507c154e?ref=outlook-calendar
SUMMARY:Creating Navigation Links and Route Patterns
DTSTART;TZID=America/Los_Angeles:20260422T190000
DTEND;TZID=America/Los_Angeles:20260422T200000
LOCATION:https://www.learndesk.us/class/4796584787181568/lesson/248b2b5a071e20b1a1fba2b5507c154e?ref=outlook-calendar
DESCRIPTION: Configuring URL routing patterns to display a specific template.

Use the rout() decorator to bind functions to URL patterns



https://www.learndesk.us/class/4796584787181568/lesson/248b2b5a071e20b1a1fba2b5507c154e?ref=outlook-calendar
STATUS:CONFIRMED
SEQUENCE:3
BEGIN:VALARM
TRIGGER:-PT10M
DESCRIPTION:Class Reminder
ACTION:DISPLAY
END:VALARM
END:VEVENT
END:VCALENDAR