BEGIN:VCALENDAR
VERSION:2.0
CALSCALE:GREGORIAN
BEGIN:VEVENT
URL:https://www.learndesk.us/class/4796584787181568/lesson/1f08cdae8bb364812cef9be8366b3711?ref=outlook-calendar
SUMMARY:The Course Overview
DTSTART;TZID=America/Los_Angeles:20260422T190000
DTEND;TZID=America/Los_Angeles:20260422T200000
LOCATION:https://www.learndesk.us/class/4796584787181568/lesson/1f08cdae8bb364812cef9be8366b3711?ref=outlook-calendar
DESCRIPTION: This video explains the course pre-requisites and provides an entire overview of the course.
All codes and supporting files are placed on GitHub at this link: https://github.com/PacktPublishing/Full-Stack-Web-Development-with-Flask-Video-

https://www.learndesk.us/class/4796584787181568/lesson/1f08cdae8bb364812cef9be8366b3711?ref=outlook-calendar
STATUS:CONFIRMED
SEQUENCE:3
BEGIN:VALARM
TRIGGER:-PT10M
DESCRIPTION:Class Reminder
ACTION:DISPLAY
END:VALARM
END:VEVENT
END:VCALENDAR