BEGIN:VCALENDAR
VERSION:2.0
CALSCALE:GREGORIAN
BEGIN:VEVENT
URL:https://www.learndesk.us/class/4796584787181568/lesson/1e76845db0a0178e8b115cb4f57bc576?ref=outlook-calendar
SUMMARY:Installing Database Systems
DTSTART;TZID=America/Los_Angeles:20260422T190000
DTEND;TZID=America/Los_Angeles:20260422T200000
LOCATION:https://www.learndesk.us/class/4796584787181568/lesson/1e76845db0a0178e8b115cb4f57bc576?ref=outlook-calendar
DESCRIPTION: Downloading and installing the MongoDB database system and installing the Flask MongoEngine extension.

Download MongoDB and install MongoEngine using pip



https://www.learndesk.us/class/4796584787181568/lesson/1e76845db0a0178e8b115cb4f57bc576?ref=outlook-calendar
STATUS:CONFIRMED
SEQUENCE:3
BEGIN:VALARM
TRIGGER:-PT10M
DESCRIPTION:Class Reminder
ACTION:DISPLAY
END:VALARM
END:VEVENT
END:VCALENDAR