BEGIN:VCALENDAR
VERSION:2.0
CALSCALE:GREGORIAN
BEGIN:VEVENT
URL:https://www.learndesk.us/class/4796584787181568/lesson/1a115c8b6ee7d8c027254ac3d852eaad?ref=outlook-calendar
SUMMARY:Creating a Flask Project
DTSTART;TZID=America/Los_Angeles:20260422T190000
DTEND;TZID=America/Los_Angeles:20260422T200000
LOCATION:https://www.learndesk.us/class/4796584787181568/lesson/1a115c8b6ee7d8c027254ac3d852eaad?ref=outlook-calendar
DESCRIPTION: 
In this section, we will start by creating the Enrollment application using the Flask micro-framework. We will also create the landing page and setup route patterns for our application.

Creating the Enrollment Application
Running and Configuring the Development Server
Creating the Home Page
Creating Navigation Links and Route Patterns



https://www.learndesk.us/class/4796584787181568/lesson/1a115c8b6ee7d8c027254ac3d852eaad?ref=outlook-calendar
STATUS:CONFIRMED
SEQUENCE:3
BEGIN:VALARM
TRIGGER:-PT10M
DESCRIPTION:Class Reminder
ACTION:DISPLAY
END:VALARM
END:VEVENT
END:VCALENDAR