BEGIN:VCALENDAR
VERSION:2.0
CALSCALE:GREGORIAN
BEGIN:VEVENT
URL:https://www.learndesk.us/class/4796584787181568/lesson/145b7af75a8bcac224ebeac3d68cce43?ref=outlook-calendar
SUMMARY:Working with Databases
DTSTART;TZID=America/Los_Angeles:20260422T190000
DTEND;TZID=America/Los_Angeles:20260422T200000
LOCATION:https://www.learndesk.us/class/4796584787181568/lesson/145b7af75a8bcac224ebeac3d68cce43?ref=outlook-calendar
DESCRIPTION: 
In this section, we will setup the Flask-Mongo Engine database to be used for our application. We will create the documents, populate with some data, and connect to our application. We will also create our model file to house the data from the database.

Installing Database Systems
Setting Up the Database
Connecting to The Database
Creating Documents and Data
Creating the Data Models



https://www.learndesk.us/class/4796584787181568/lesson/145b7af75a8bcac224ebeac3d68cce43?ref=outlook-calendar
STATUS:CONFIRMED
SEQUENCE:3
BEGIN:VALARM
TRIGGER:-PT10M
DESCRIPTION:Class Reminder
ACTION:DISPLAY
END:VALARM
END:VEVENT
END:VCALENDAR