BEGIN:VCALENDAR
VERSION:2.0
CALSCALE:GREGORIAN
BEGIN:VEVENT
URL:https://www.learndesk.us/class/4796584787181568/lesson/01fc2c38468fc9e1b1a9f18fae00d745?ref=outlook-calendar
SUMMARY:Creating the Base Template
DTSTART;TZID=America/Los_Angeles:20260422T190000
DTEND;TZID=America/Los_Angeles:20260422T200000
LOCATION:https://www.learndesk.us/class/4796584787181568/lesson/01fc2c38468fc9e1b1a9f18fae00d745?ref=outlook-calendar
DESCRIPTION: Creating a base template to be inherited by child templates.

Use Jinja’s block content to create child templates



https://www.learndesk.us/class/4796584787181568/lesson/01fc2c38468fc9e1b1a9f18fae00d745?ref=outlook-calendar
STATUS:CONFIRMED
SEQUENCE:3
BEGIN:VALARM
TRIGGER:-PT10M
DESCRIPTION:Class Reminder
ACTION:DISPLAY
END:VALARM
END:VEVENT
END:VCALENDAR