BEGIN:VCALENDAR
VERSION:2.0
CALSCALE:GREGORIAN
BEGIN:VEVENT
URL:https://www.learndesk.us/class/4773054477500416/lesson/04566540feeb677c66295c80c9c1e047?ref=outlook-calendar
SUMMARY:Getting A Cinematic Sound With A Loudness Maximizer
DTSTART;TZID=America/Los_Angeles:20260422T190000
DTEND;TZID=America/Los_Angeles:20260422T200000
LOCATION:https://www.learndesk.us/class/4773054477500416/lesson/04566540feeb677c66295c80c9c1e047?ref=outlook-calendar
DESCRIPTION: https://www.learndesk.us/class/4773054477500416/lesson/04566540feeb677c66295c80c9c1e047?ref=outlook-calendar
STATUS:CONFIRMED
SEQUENCE:3
BEGIN:VALARM
TRIGGER:-PT10M
DESCRIPTION:Class Reminder
ACTION:DISPLAY
END:VALARM
END:VEVENT
END:VCALENDAR