BEGIN:VCALENDAR
VERSION:2.0
CALSCALE:GREGORIAN
BEGIN:VEVENT
URL:https://www.learndesk.us/class/4770285024706560/lesson/c6a19b0896c8e964a89a3b60e8ae5e64?ref=outlook-calendar
SUMMARY:Divide use in any Sketch
DTSTART;TZID=America/Los_Angeles:20260423T190000
DTEND;TZID=America/Los_Angeles:20260423T200000
LOCATION:https://www.learndesk.us/class/4770285024706560/lesson/c6a19b0896c8e964a89a3b60e8ae5e64?ref=outlook-calendar
DESCRIPTION: https://www.learndesk.us/class/4770285024706560/lesson/c6a19b0896c8e964a89a3b60e8ae5e64?ref=outlook-calendar
STATUS:CONFIRMED
SEQUENCE:3
BEGIN:VALARM
TRIGGER:-PT10M
DESCRIPTION:Class Reminder
ACTION:DISPLAY
END:VALARM
END:VEVENT
END:VCALENDAR