BEGIN:VCALENDAR
VERSION:2.0
CALSCALE:GREGORIAN
BEGIN:VEVENT
URL:https://www.learndesk.us/class/4770285024706560/lesson/b91da9e244ad11dfd39f24ba9e3bb059?ref=outlook-calendar
SUMMARY:Offset, Extend and Split command
DTSTART;TZID=America/Los_Angeles:20260425T190000
DTEND;TZID=America/Los_Angeles:20260425T200000
LOCATION:https://www.learndesk.us/class/4770285024706560/lesson/b91da9e244ad11dfd39f24ba9e3bb059?ref=outlook-calendar
DESCRIPTION: https://www.learndesk.us/class/4770285024706560/lesson/b91da9e244ad11dfd39f24ba9e3bb059?ref=outlook-calendar
STATUS:CONFIRMED
SEQUENCE:3
BEGIN:VALARM
TRIGGER:-PT10M
DESCRIPTION:Class Reminder
ACTION:DISPLAY
END:VALARM
END:VEVENT
END:VCALENDAR