BEGIN:VCALENDAR
VERSION:2.0
CALSCALE:GREGORIAN
BEGIN:VEVENT
URL:https://www.learndesk.us/class/4770285024706560/lesson/6a87b96d8674ef76a1782d7303e651ff?ref=outlook-calendar
SUMMARY:Sweep Command - Cut Out From 3D Object
DTSTART;TZID=America/Los_Angeles:20260425T190000
DTEND;TZID=America/Los_Angeles:20260425T200000
LOCATION:https://www.learndesk.us/class/4770285024706560/lesson/6a87b96d8674ef76a1782d7303e651ff?ref=outlook-calendar
DESCRIPTION: https://www.learndesk.us/class/4770285024706560/lesson/6a87b96d8674ef76a1782d7303e651ff?ref=outlook-calendar
STATUS:CONFIRMED
SEQUENCE:3
BEGIN:VALARM
TRIGGER:-PT10M
DESCRIPTION:Class Reminder
ACTION:DISPLAY
END:VALARM
END:VEVENT
END:VCALENDAR