BEGIN:VCALENDAR
VERSION:2.0
CALSCALE:GREGORIAN
BEGIN:VEVENT
URL:https://www.learndesk.us/class/4770285024706560/lesson/4fb5f9c1ce9c317e4a33e8b1df718671?ref=outlook-calendar
SUMMARY:Pattern – Direction and Dimensions
DTSTART;TZID=America/Los_Angeles:20260425T190000
DTEND;TZID=America/Los_Angeles:20260425T200000
LOCATION:https://www.learndesk.us/class/4770285024706560/lesson/4fb5f9c1ce9c317e4a33e8b1df718671?ref=outlook-calendar
DESCRIPTION: https://www.learndesk.us/class/4770285024706560/lesson/4fb5f9c1ce9c317e4a33e8b1df718671?ref=outlook-calendar
STATUS:CONFIRMED
SEQUENCE:3
BEGIN:VALARM
TRIGGER:-PT10M
DESCRIPTION:Class Reminder
ACTION:DISPLAY
END:VALARM
END:VEVENT
END:VCALENDAR