BEGIN:VCALENDAR
VERSION:2.0
CALSCALE:GREGORIAN
BEGIN:VEVENT
URL:https://www.learndesk.us/class/4770285024706560/lesson/3ef6686d7c3d3d487f24f5442449d7dc?ref=outlook-calendar
SUMMARY:Helical Sweep Command- Treading on 3D Object
DTSTART;TZID=America/Los_Angeles:20260425T190000
DTEND;TZID=America/Los_Angeles:20260425T200000
LOCATION:https://www.learndesk.us/class/4770285024706560/lesson/3ef6686d7c3d3d487f24f5442449d7dc?ref=outlook-calendar
DESCRIPTION: https://www.learndesk.us/class/4770285024706560/lesson/3ef6686d7c3d3d487f24f5442449d7dc?ref=outlook-calendar
STATUS:CONFIRMED
SEQUENCE:3
BEGIN:VALARM
TRIGGER:-PT10M
DESCRIPTION:Class Reminder
ACTION:DISPLAY
END:VALARM
END:VEVENT
END:VCALENDAR