BEGIN:VCALENDAR
VERSION:2.0
CALSCALE:GREGORIAN
BEGIN:VEVENT
URL:https://www.learndesk.us/class/4764612887052288/lesson/7bc8a6116921f8d9f75fb7b0b0c688f2?ref=outlook-calendar
SUMMARY:Energy Blueprint of Projectors
DTSTART;TZID=America/Los_Angeles:20260421T190000
DTEND;TZID=America/Los_Angeles:20260421T200000
LOCATION:https://www.learndesk.us/class/4764612887052288/lesson/7bc8a6116921f8d9f75fb7b0b0c688f2?ref=outlook-calendar
DESCRIPTION: https://www.learndesk.us/class/4764612887052288/lesson/7bc8a6116921f8d9f75fb7b0b0c688f2?ref=outlook-calendar
STATUS:CONFIRMED
SEQUENCE:3
BEGIN:VALARM
TRIGGER:-PT10M
DESCRIPTION:Class Reminder
ACTION:DISPLAY
END:VALARM
END:VEVENT
END:VCALENDAR