BEGIN:VCALENDAR
VERSION:2.0
CALSCALE:GREGORIAN
BEGIN:VEVENT
URL:https://www.learndesk.us/class/4752405600141312/lesson/c98eeb32fa0de28b4a7eb4643047b79b?ref=outlook-calendar
SUMMARY:Transform Data: Pivoting Column in Excel Power Query
DTSTART;TZID=America/Los_Angeles:20260425T190000
DTEND;TZID=America/Los_Angeles:20260425T200000
LOCATION:https://www.learndesk.us/class/4752405600141312/lesson/c98eeb32fa0de28b4a7eb4643047b79b?ref=outlook-calendar
DESCRIPTION: https://www.learndesk.us/class/4752405600141312/lesson/c98eeb32fa0de28b4a7eb4643047b79b?ref=outlook-calendar
STATUS:CONFIRMED
SEQUENCE:3
BEGIN:VALARM
TRIGGER:-PT10M
DESCRIPTION:Class Reminder
ACTION:DISPLAY
END:VALARM
END:VEVENT
END:VCALENDAR