BEGIN:VCALENDAR
VERSION:2.0
CALSCALE:GREGORIAN
BEGIN:VEVENT
URL:https://www.learndesk.us/class/4752405600141312/lesson/5263a56bd95227e234ddd1b950b0415d?ref=outlook-calendar
SUMMARY:Transform Data: Filtering Rows in Excel Power Query
DTSTART;TZID=America/Los_Angeles:20260425T190000
DTEND;TZID=America/Los_Angeles:20260425T200000
LOCATION:https://www.learndesk.us/class/4752405600141312/lesson/5263a56bd95227e234ddd1b950b0415d?ref=outlook-calendar
DESCRIPTION: https://www.learndesk.us/class/4752405600141312/lesson/5263a56bd95227e234ddd1b950b0415d?ref=outlook-calendar
STATUS:CONFIRMED
SEQUENCE:3
BEGIN:VALARM
TRIGGER:-PT10M
DESCRIPTION:Class Reminder
ACTION:DISPLAY
END:VALARM
END:VEVENT
END:VCALENDAR