BEGIN:VCALENDAR
VERSION:2.0
CALSCALE:GREGORIAN
BEGIN:VEVENT
URL:https://www.learndesk.us/class/4749386619813888/lesson/8a73f68b53ec3e8cc84f73f1d4b8d8d6?ref=outlook-calendar
SUMMARY:Research Methods and Design 20
DTSTART;TZID=America/Los_Angeles:20260422T190000
DTEND;TZID=America/Los_Angeles:20260422T200000
LOCATION:https://www.learndesk.us/class/4749386619813888/lesson/8a73f68b53ec3e8cc84f73f1d4b8d8d6?ref=outlook-calendar
DESCRIPTION: https://www.learndesk.us/class/4749386619813888/lesson/8a73f68b53ec3e8cc84f73f1d4b8d8d6?ref=outlook-calendar
STATUS:CONFIRMED
SEQUENCE:3
BEGIN:VALARM
TRIGGER:-PT10M
DESCRIPTION:Class Reminder
ACTION:DISPLAY
END:VALARM
END:VEVENT
END:VCALENDAR