BEGIN:VCALENDAR
VERSION:2.0
CALSCALE:GREGORIAN
BEGIN:VEVENT
URL:https://www.learndesk.us/class/4749386619813888/lesson/5ce31cd1e9ecf660f7e310cf608d4d79?ref=outlook-calendar
SUMMARY:Research Methods and Design 3
DTSTART;TZID=America/Los_Angeles:20260424T190000
DTEND;TZID=America/Los_Angeles:20260424T200000
LOCATION:https://www.learndesk.us/class/4749386619813888/lesson/5ce31cd1e9ecf660f7e310cf608d4d79?ref=outlook-calendar
DESCRIPTION: https://www.learndesk.us/class/4749386619813888/lesson/5ce31cd1e9ecf660f7e310cf608d4d79?ref=outlook-calendar
STATUS:CONFIRMED
SEQUENCE:3
BEGIN:VALARM
TRIGGER:-PT10M
DESCRIPTION:Class Reminder
ACTION:DISPLAY
END:VALARM
END:VEVENT
END:VCALENDAR