BEGIN:VCALENDAR
VERSION:2.0
CALSCALE:GREGORIAN
BEGIN:VEVENT
URL:https://www.learndesk.us/class/4737670351683584/lesson/da4623a2eb8f08e2ad258e6f8d1be33e?ref=outlook-calendar
SUMMARY:Who Should Take This Course and How to Get Best Out of This Course?
DTSTART;TZID=America/Los_Angeles:20260421T190000
DTEND;TZID=America/Los_Angeles:20260421T200000
LOCATION:https://www.learndesk.us/class/4737670351683584/lesson/da4623a2eb8f08e2ad258e6f8d1be33e?ref=outlook-calendar
DESCRIPTION: Who should take this course and How to get best out of this course?

https://www.learndesk.us/class/4737670351683584/lesson/da4623a2eb8f08e2ad258e6f8d1be33e?ref=outlook-calendar
STATUS:CONFIRMED
SEQUENCE:3
BEGIN:VALARM
TRIGGER:-PT10M
DESCRIPTION:Class Reminder
ACTION:DISPLAY
END:VALARM
END:VEVENT
END:VCALENDAR