BEGIN:VCALENDAR
VERSION:2.0
CALSCALE:GREGORIAN
BEGIN:VEVENT
URL:https://www.learndesk.us/class/4737670351683584/lesson/d1f6663f0a2e5c6f11c7c3b2c263020c?ref=outlook-calendar
SUMMARY:Planetary Relationships
DTSTART;TZID=America/Los_Angeles:20260421T190000
DTEND;TZID=America/Los_Angeles:20260421T200000
LOCATION:https://www.learndesk.us/class/4737670351683584/lesson/d1f6663f0a2e5c6f11c7c3b2c263020c?ref=outlook-calendar
DESCRIPTION: https://www.learndesk.us/class/4737670351683584/lesson/d1f6663f0a2e5c6f11c7c3b2c263020c?ref=outlook-calendar
STATUS:CONFIRMED
SEQUENCE:3
BEGIN:VALARM
TRIGGER:-PT10M
DESCRIPTION:Class Reminder
ACTION:DISPLAY
END:VALARM
END:VEVENT
END:VCALENDAR