BEGIN:VCALENDAR
VERSION:2.0
CALSCALE:GREGORIAN
BEGIN:VEVENT
URL:https://www.learndesk.us/class/4737670351683584/lesson/c8db46efb4d0739c54209445a70f3c89?ref=outlook-calendar
SUMMARY:Quadrants, Trines, Upachayas, Apokiliyam, Panaparas, Dusthana
DTSTART;TZID=America/Los_Angeles:20260421T190000
DTEND;TZID=America/Los_Angeles:20260421T200000
LOCATION:https://www.learndesk.us/class/4737670351683584/lesson/c8db46efb4d0739c54209445a70f3c89?ref=outlook-calendar
DESCRIPTION: https://www.learndesk.us/class/4737670351683584/lesson/c8db46efb4d0739c54209445a70f3c89?ref=outlook-calendar
STATUS:CONFIRMED
SEQUENCE:3
BEGIN:VALARM
TRIGGER:-PT10M
DESCRIPTION:Class Reminder
ACTION:DISPLAY
END:VALARM
END:VEVENT
END:VCALENDAR