BEGIN:VCALENDAR
VERSION:2.0
CALSCALE:GREGORIAN
BEGIN:VEVENT
URL:https://www.learndesk.us/class/4737670351683584/lesson/bf334437e647765c5724fd1f2dfbb04e?ref=outlook-calendar
SUMMARY:Fixed, Movable, Common, Odd and Even Signs
DTSTART;TZID=America/Los_Angeles:20260421T190000
DTEND;TZID=America/Los_Angeles:20260421T200000
LOCATION:https://www.learndesk.us/class/4737670351683584/lesson/bf334437e647765c5724fd1f2dfbb04e?ref=outlook-calendar
DESCRIPTION: https://www.learndesk.us/class/4737670351683584/lesson/bf334437e647765c5724fd1f2dfbb04e?ref=outlook-calendar
STATUS:CONFIRMED
SEQUENCE:3
BEGIN:VALARM
TRIGGER:-PT10M
DESCRIPTION:Class Reminder
ACTION:DISPLAY
END:VALARM
END:VEVENT
END:VCALENDAR