BEGIN:VCALENDAR
VERSION:2.0
CALSCALE:GREGORIAN
BEGIN:VEVENT
URL:https://www.learndesk.us/class/4737670351683584/lesson/613216e7f9b0f597e0927f7e4bb60c18?ref=outlook-calendar
SUMMARY:Theory of Karma
DTSTART;TZID=America/Los_Angeles:20260421T190000
DTEND;TZID=America/Los_Angeles:20260421T200000
LOCATION:https://www.learndesk.us/class/4737670351683584/lesson/613216e7f9b0f597e0927f7e4bb60c18?ref=outlook-calendar
DESCRIPTION: The relationship between astrology and the theory of karma

https://www.learndesk.us/class/4737670351683584/lesson/613216e7f9b0f597e0927f7e4bb60c18?ref=outlook-calendar
STATUS:CONFIRMED
SEQUENCE:3
BEGIN:VALARM
TRIGGER:-PT10M
DESCRIPTION:Class Reminder
ACTION:DISPLAY
END:VALARM
END:VEVENT
END:VCALENDAR