BEGIN:VCALENDAR
VERSION:2.0
CALSCALE:GREGORIAN
BEGIN:VEVENT
URL:https://www.learndesk.us/class/4737670351683584/lesson/46a8c47bac8631e7e8de5f44c666c5e6?ref=outlook-calendar
SUMMARY:Introduction and Welcome to the Course
DTSTART;TZID=America/Los_Angeles:20260421T190000
DTEND;TZID=America/Los_Angeles:20260421T200000
LOCATION:https://www.learndesk.us/class/4737670351683584/lesson/46a8c47bac8631e7e8de5f44c666c5e6?ref=outlook-calendar
DESCRIPTION: Introduction and welcome to the course

https://www.learndesk.us/class/4737670351683584/lesson/46a8c47bac8631e7e8de5f44c666c5e6?ref=outlook-calendar
STATUS:CONFIRMED
SEQUENCE:3
BEGIN:VALARM
TRIGGER:-PT10M
DESCRIPTION:Class Reminder
ACTION:DISPLAY
END:VALARM
END:VEVENT
END:VCALENDAR