BEGIN:VCALENDAR
VERSION:2.0
CALSCALE:GREGORIAN
BEGIN:VEVENT
URL:https://www.learndesk.us/class/4737670351683584/lesson/306d560bd67032eb5a9ba09bab703c39?ref=outlook-calendar
SUMMARY:Special Yogas in Astrology
DTSTART;TZID=America/Los_Angeles:20260421T190000
DTEND;TZID=America/Los_Angeles:20260421T200000
LOCATION:https://www.learndesk.us/class/4737670351683584/lesson/306d560bd67032eb5a9ba09bab703c39?ref=outlook-calendar
DESCRIPTION: https://www.learndesk.us/class/4737670351683584/lesson/306d560bd67032eb5a9ba09bab703c39?ref=outlook-calendar
STATUS:CONFIRMED
SEQUENCE:3
BEGIN:VALARM
TRIGGER:-PT10M
DESCRIPTION:Class Reminder
ACTION:DISPLAY
END:VALARM
END:VEVENT
END:VCALENDAR