BEGIN:VCALENDAR
VERSION:2.0
CALSCALE:GREGORIAN
BEGIN:VEVENT
URL:https://www.learndesk.us/class/4737670351683584/lesson/15c32e3e2e1b644b5d248e3f7a8ddf71?ref=outlook-calendar
SUMMARY:Calculating Starting Dasha Bukti for the Standard Horoscope
DTSTART;TZID=America/Los_Angeles:20260421T190000
DTEND;TZID=America/Los_Angeles:20260421T200000
LOCATION:https://www.learndesk.us/class/4737670351683584/lesson/15c32e3e2e1b644b5d248e3f7a8ddf71?ref=outlook-calendar
DESCRIPTION: https://www.learndesk.us/class/4737670351683584/lesson/15c32e3e2e1b644b5d248e3f7a8ddf71?ref=outlook-calendar
STATUS:CONFIRMED
SEQUENCE:3
BEGIN:VALARM
TRIGGER:-PT10M
DESCRIPTION:Class Reminder
ACTION:DISPLAY
END:VALARM
END:VEVENT
END:VCALENDAR