BEGIN:VCALENDAR
VERSION:2.0
CALSCALE:GREGORIAN
BEGIN:VEVENT
URL:https://www.learndesk.us/class/4737670351683584/fundamentals-of-vedic-astrology-for-beginners?ref=outlook-calendar
SUMMARY:Fundamentals of Vedic Astrology For Beginners
DTSTART;TZID=America/Los_Angeles:20260421T190000
DTEND;TZID=America/Los_Angeles:20260421T200000
LOCATION:https://www.learndesk.us/class/4737670351683584/fundamentals-of-vedic-astrology-for-beginners?ref=outlook-calendar
DESCRIPTION: What will you learn in this course?

What is astrology?
The astronomical evidence in astrology
What is ayanamsa?
What is Rahu/Ketu?
The zodiac, and its significance12 zodiac signs and their characteristics
Planets in Vedic astrology and its characteristics
The casting of Rashi chart
The casting of the navamsa chart
Shambala
Dasa bukti calculations
Raja yogas in Vedic astrology
Prediction techniques for career
Prediction techniques for marriage
Prediction techniques for wealth
Prediction techniques for health
Longevity predictions, etc.

Who should take this course?

If you want to learn astrology from the scratch
If you want to understand the science behind the astrology
Confidently apply Vedic astrological principles in your own birth chart
If you want to leverage astrological guidance to make the best decisions in your life
If you want to take up astrology as a part-time career
If you want to become a full-time astrologer in the future
If you want to move from beginner level to...

https://www.learndesk.us/class/4737670351683584/fundamentals-of-vedic-astrology-for-beginners?ref=outlook-calendar
STATUS:CONFIRMED
SEQUENCE:3
BEGIN:VALARM
TRIGGER:-PT10M
DESCRIPTION:Class Reminder
ACTION:DISPLAY
END:VALARM
END:VEVENT
END:VCALENDAR