BEGIN:VCALENDAR
VERSION:2.0
CALSCALE:GREGORIAN
BEGIN:VEVENT
URL:https://www.learndesk.us/class/4715634820644864/lesson/654b38183981805709a907f310bc57ad?ref=outlook-calendar
SUMMARY:System Maintenance
DTSTART;TZID=America/Los_Angeles:20260425T190000
DTEND;TZID=America/Los_Angeles:20260425T200000
LOCATION:https://www.learndesk.us/class/4715634820644864/lesson/654b38183981805709a907f310bc57ad?ref=outlook-calendar
DESCRIPTION: Learn how to check your system.

https://www.learndesk.us/class/4715634820644864/lesson/654b38183981805709a907f310bc57ad?ref=outlook-calendar
STATUS:CONFIRMED
SEQUENCE:3
BEGIN:VALARM
TRIGGER:-PT10M
DESCRIPTION:Class Reminder
ACTION:DISPLAY
END:VALARM
END:VEVENT
END:VCALENDAR