BEGIN:VCALENDAR
VERSION:2.0
CALSCALE:GREGORIAN
BEGIN:VEVENT
URL:https://www.learndesk.us/class/4715634820644864/lesson/480033b6c80e55beca02185bba9da740?ref=outlook-calendar
SUMMARY:How to Search and Export Videos
DTSTART;TZID=America/Los_Angeles:20260421T190000
DTEND;TZID=America/Los_Angeles:20260421T200000
LOCATION:https://www.learndesk.us/class/4715634820644864/lesson/480033b6c80e55beca02185bba9da740?ref=outlook-calendar
DESCRIPTION: https://www.learndesk.us/class/4715634820644864/lesson/480033b6c80e55beca02185bba9da740?ref=outlook-calendar
STATUS:CONFIRMED
SEQUENCE:3
BEGIN:VALARM
TRIGGER:-PT10M
DESCRIPTION:Class Reminder
ACTION:DISPLAY
END:VALARM
END:VEVENT
END:VCALENDAR