BEGIN:VCALENDAR
VERSION:2.0
CALSCALE:GREGORIAN
BEGIN:VEVENT
URL:https://www.learndesk.us/class/4709301694234624/red-hat-linux-essentials?ref=outlook-calendar
SUMMARY:Red Hat Linux Essentials
DTSTART;TZID=America/Los_Angeles:20260426T190000
DTEND;TZID=America/Los_Angeles:20260426T200000
LOCATION:https://www.learndesk.us/class/4709301694234624/red-hat-linux-essentials?ref=outlook-calendar
DESCRIPTION: 
This course is all about RHEL (Red Hat Enterprise Linux) and RHCE (Red Hat Certification Exam). Here we will explore various services, utilities, commands, concepts related to RHEL covering RH033 (Essentials).
We would learn about Linux file system in depth, graphical utilities on gnome, wide range of commands for text processing (grep, sed, cut, less, pipe, tr, etc.) handling, process management (ps, pstree, top, kill, etc.) file management (cd, ls, touch, etc.), file permission (chmod, chgrp, chown, etc.) in both symbolic and numeric methods, logging, networking, system administration, mounting, installation (yum) etc. with a wide range of topics with emphasis on RHCE.
We will learn concepts in lectures and will implement them by executing commands on terminal and shell scripts in practical sessions.


https://www.learndesk.us/class/4709301694234624/red-hat-linux-essentials?ref=outlook-calendar
STATUS:CONFIRMED
SEQUENCE:3
BEGIN:VALARM
TRIGGER:-PT10M
DESCRIPTION:Class Reminder
ACTION:DISPLAY
END:VALARM
END:VEVENT
END:VCALENDAR