BEGIN:VCALENDAR
VERSION:2.0
CALSCALE:GREGORIAN
BEGIN:VEVENT
URL:https://www.learndesk.us/class/4704831635718144/lesson/cb8eb3f8c8a6dceeb7aad75c1fdf57e0?ref=outlook-calendar
SUMMARY:Configuring Routing with IPv6
DTSTART;TZID=America/Los_Angeles:20260420T190000
DTEND;TZID=America/Los_Angeles:20260420T200000
LOCATION:https://www.learndesk.us/class/4704831635718144/lesson/cb8eb3f8c8a6dceeb7aad75c1fdf57e0?ref=outlook-calendar
DESCRIPTION: https://www.learndesk.us/class/4704831635718144/lesson/cb8eb3f8c8a6dceeb7aad75c1fdf57e0?ref=outlook-calendar
STATUS:CONFIRMED
SEQUENCE:3
BEGIN:VALARM
TRIGGER:-PT10M
DESCRIPTION:Class Reminder
ACTION:DISPLAY
END:VALARM
END:VEVENT
END:VCALENDAR