BEGIN:VCALENDAR
VERSION:2.0
CALSCALE:GREGORIAN
BEGIN:VEVENT
URL:https://www.learndesk.us/class/4704831635718144/lesson/54f59000b9e8d6947de4bb55880c7943?ref=outlook-calendar
SUMMARY:Virtualization,Automation and Programmability
DTSTART;TZID=America/Los_Angeles:20260420T190000
DTEND;TZID=America/Los_Angeles:20260420T200000
LOCATION:https://www.learndesk.us/class/4704831635718144/lesson/54f59000b9e8d6947de4bb55880c7943?ref=outlook-calendar
DESCRIPTION: https://www.learndesk.us/class/4704831635718144/lesson/54f59000b9e8d6947de4bb55880c7943?ref=outlook-calendar
STATUS:CONFIRMED
SEQUENCE:3
BEGIN:VALARM
TRIGGER:-PT10M
DESCRIPTION:Class Reminder
ACTION:DISPLAY
END:VALARM
END:VEVENT
END:VCALENDAR