BEGIN:VCALENDAR
VERSION:2.0
CALSCALE:GREGORIAN
BEGIN:VEVENT
URL:https://www.learndesk.us/class/4704831635718144/lesson/51287a112f09e8c1c78f3f5a76246127?ref=outlook-calendar
SUMMARY:Network OSI Layer & TCP/IP Layers
DTSTART;TZID=America/Los_Angeles:20260420T190000
DTEND;TZID=America/Los_Angeles:20260420T200000
LOCATION:https://www.learndesk.us/class/4704831635718144/lesson/51287a112f09e8c1c78f3f5a76246127?ref=outlook-calendar
DESCRIPTION: https://www.learndesk.us/class/4704831635718144/lesson/51287a112f09e8c1c78f3f5a76246127?ref=outlook-calendar
STATUS:CONFIRMED
SEQUENCE:3
BEGIN:VALARM
TRIGGER:-PT10M
DESCRIPTION:Class Reminder
ACTION:DISPLAY
END:VALARM
END:VEVENT
END:VCALENDAR