BEGIN:VCALENDAR
VERSION:2.0
CALSCALE:GREGORIAN
BEGIN:VEVENT
URL:https://www.learndesk.us/class/4704831635718144/lesson/4f8df2a44936429c27d2889d67a8fd52?ref=outlook-calendar
SUMMARY:VLAN Technologies
DTSTART;TZID=America/Los_Angeles:20260422T190000
DTEND;TZID=America/Los_Angeles:20260422T200000
LOCATION:https://www.learndesk.us/class/4704831635718144/lesson/4f8df2a44936429c27d2889d67a8fd52?ref=outlook-calendar
DESCRIPTION: https://www.learndesk.us/class/4704831635718144/lesson/4f8df2a44936429c27d2889d67a8fd52?ref=outlook-calendar
STATUS:CONFIRMED
SEQUENCE:3
BEGIN:VALARM
TRIGGER:-PT10M
DESCRIPTION:Class Reminder
ACTION:DISPLAY
END:VALARM
END:VEVENT
END:VCALENDAR