BEGIN:VCALENDAR
VERSION:2.0
CALSCALE:GREGORIAN
BEGIN:VEVENT
URL:https://www.learndesk.us/class/4704831635718144/lesson/3f4a1845d95fd8beca4d9c42b222ed0f?ref=outlook-calendar
SUMMARY:Configuring GRE Tunnel
DTSTART;TZID=America/Los_Angeles:20260420T190000
DTEND;TZID=America/Los_Angeles:20260420T200000
LOCATION:https://www.learndesk.us/class/4704831635718144/lesson/3f4a1845d95fd8beca4d9c42b222ed0f?ref=outlook-calendar
DESCRIPTION: https://www.learndesk.us/class/4704831635718144/lesson/3f4a1845d95fd8beca4d9c42b222ed0f?ref=outlook-calendar
STATUS:CONFIRMED
SEQUENCE:3
BEGIN:VALARM
TRIGGER:-PT10M
DESCRIPTION:Class Reminder
ACTION:DISPLAY
END:VALARM
END:VEVENT
END:VCALENDAR