BEGIN:VCALENDAR
VERSION:2.0
CALSCALE:GREGORIAN
BEGIN:VEVENT
URL:https://www.learndesk.us/class/4703342611660800/lesson/b3b246142a8d3c22f39d35e0c2f7f71b?ref=outlook-calendar
SUMMARY:What are Tasks, Queues and Semaphores?
DTSTART;TZID=America/Los_Angeles:20260422T190000
DTEND;TZID=America/Los_Angeles:20260422T200000
LOCATION:https://www.learndesk.us/class/4703342611660800/lesson/b3b246142a8d3c22f39d35e0c2f7f71b?ref=outlook-calendar
DESCRIPTION: https://www.learndesk.us/class/4703342611660800/lesson/b3b246142a8d3c22f39d35e0c2f7f71b?ref=outlook-calendar
STATUS:CONFIRMED
SEQUENCE:3
BEGIN:VALARM
TRIGGER:-PT10M
DESCRIPTION:Class Reminder
ACTION:DISPLAY
END:VALARM
END:VEVENT
END:VCALENDAR